BEGIN:VCALENDAR
VERSION:2.0
PRODID:floktu.com
X-WR-TIMEZONE:Australia/Sydney
X-PUBLISHED-TTL:P1W
BEGIN:VEVENT
UID:FloktuEvent24380@floktu.com
DTSTART;TZID=Australia/Sydney:20200307T190000
SEQUENCE:0
TRANSP:OPAQUE
DTEND;TZID=Australia/Sydney:20200307T223000
LOCATION:89 Hoddle St\, 89 Hoddle Street\, Robertson\, New South Wales
SUMMARY:Turbo Trivia for Native Wildlife Rescue and Rehabilitation
DESCRIPTION:Visit https://turbotriviafornativewildliferescueandrehabilitat.
 floktu.com for more information.
DTSTAMP:20260422T024136Z
END:VEVENT
BEGIN:VTIMEZONE
TZID:Australia/Sydney
X-LIC-LOCATION:Australia/Sydney
END:VTIMEZONE
END:VCALENDAR