BEGIN:VCALENDAR
VERSION:2.0
PRODID:floktu.com
X-PUBLISHED-TTL:P1W
BEGIN:VEVENT
UID:FloktuEvent24380@floktu.com
DTSTART:20200307T080000Z
SEQUENCE:0
TRANSP:OPAQUE
DTEND:20200307T113000Z
LOCATION:89 Hoddle St\, 89 Hoddle Street\, Robertson\, New South Wales
SUMMARY:Turbo Trivia for Native Wildlife Rescue and Rehabilitation
DESCRIPTION:Visit https://turbotriviafornativewildliferescueandrehabilitat.
 floktu.com for more information.
DTSTAMP:20260422T024146Z
END:VEVENT
END:VCALENDAR